BEGIN:VCALENDAR
VERSION:2.0
PRODID:-//Oliver Townend - ECPv6.13.2//NONSGML v1.0//EN
CALSCALE:GREGORIAN
METHOD:PUBLISH
X-ORIGINAL-URL:https://www.olivertownend.com
X-WR-CALDESC:Events for Oliver Townend
REFRESH-INTERVAL;VALUE=DURATION:PT1H
X-Robots-Tag:noindex
X-PUBLISHED-TTL:PT1H
BEGIN:VTIMEZONE
TZID:UTC
BEGIN:STANDARD
TZOFFSETFROM:+0000
TZOFFSETTO:+0000
TZNAME:UTC
DTSTART:20250101T000000
END:STANDARD
END:VTIMEZONE
BEGIN:VEVENT
DTSTART;VALUE=DATE:20250502
DTEND;VALUE=DATE:20250505
DTSTAMP:20260419T162621
CREATED:20250218T142910Z
LAST-MODIFIED:20250218T142910Z
UID:19355-1746144000-1746403199@www.olivertownend.com
SUMMARY:Osberton or Moreton Morrell
DESCRIPTION:
URL:https://www.olivertownend.com/event/osberton-or-moreton-morrell/
CATEGORIES:Events
END:VEVENT
BEGIN:VEVENT
DTSTART;VALUE=DATE:20250506
DTEND;VALUE=DATE:20250512
DTSTAMP:20260419T162621
CREATED:20250218T142958Z
LAST-MODIFIED:20250218T142958Z
UID:19357-1746489600-1747007999@www.olivertownend.com
SUMMARY:Badminton
DESCRIPTION:
URL:https://www.olivertownend.com/event/badminton-4/
CATEGORIES:Events
END:VEVENT
BEGIN:VEVENT
DTSTART;VALUE=DATE:20250514
DTEND;VALUE=DATE:20250519
DTSTAMP:20260419T162621
CREATED:20250218T143038Z
LAST-MODIFIED:20250218T143038Z
UID:19359-1747180800-1747612799@www.olivertownend.com
SUMMARY:Aston-le-Walls
DESCRIPTION:
URL:https://www.olivertownend.com/event/aston-le-walls-8/
CATEGORIES:Events
END:VEVENT
BEGIN:VEVENT
DTSTART;VALUE=DATE:20250522
DTEND;VALUE=DATE:20250526
DTSTAMP:20260419T162621
CREATED:20250218T143118Z
LAST-MODIFIED:20250218T143118Z
UID:19361-1747872000-1748217599@www.olivertownend.com
SUMMARY:Bicton or Solihull
DESCRIPTION:
URL:https://www.olivertownend.com/event/bicton-or-solihull/
CATEGORIES:Events
END:VEVENT
END:VCALENDAR