BEGIN:VCALENDAR
VERSION:2.0
PRODID:-//Oliver Townend - ECPv6.15.20//NONSGML v1.0//EN
CALSCALE:GREGORIAN
METHOD:PUBLISH
X-WR-CALNAME:Oliver Townend
X-ORIGINAL-URL:https://www.olivertownend.com
X-WR-CALDESC:Events for Oliver Townend
REFRESH-INTERVAL;VALUE=DURATION:PT1H
X-Robots-Tag:noindex
X-PUBLISHED-TTL:PT1H
BEGIN:VTIMEZONE
TZID:UTC
BEGIN:STANDARD
TZOFFSETFROM:+0000
TZOFFSETTO:+0000
TZNAME:UTC
DTSTART:20220101T000000
END:STANDARD
END:VTIMEZONE
BEGIN:VEVENT
DTSTART;VALUE=DATE:20230804
DTEND;VALUE=DATE:20230807
DTSTAMP:20260423T093207
CREATED:20230606T144251Z
LAST-MODIFIED:20230606T144251Z
UID:18389-1691107200-1691366399@www.olivertownend.com
SUMMARY:Festival of British Eventing\, Gatcombe
DESCRIPTION:
URL:https://www.olivertownend.com/event/festival-of-british-eventing-gatcombe/
CATEGORIES:Events
END:VEVENT
BEGIN:VEVENT
DTSTART;VALUE=DATE:20230810
DTEND;VALUE=DATE:20230814
DTSTAMP:20260423T093207
CREATED:20230606T144417Z
LAST-MODIFIED:20230731T091031Z
UID:18391-1691625600-1691971199@www.olivertownend.com
SUMMARY:Hartpury/ Aston
DESCRIPTION:
URL:https://www.olivertownend.com/event/hartpury-aston/
CATEGORIES:Events
END:VEVENT
BEGIN:VEVENT
DTSTART;VALUE=DATE:20230817
DTEND;VALUE=DATE:20230819
DTSTAMP:20260423T093207
CREATED:20230606T154016Z
LAST-MODIFIED:20230606T154016Z
UID:18394-1692230400-1692403199@www.olivertownend.com
SUMMARY:Frickley Park
DESCRIPTION:
URL:https://www.olivertownend.com/event/frickley-park-2/
CATEGORIES:Events
END:VEVENT
BEGIN:VEVENT
DTSTART;VALUE=DATE:20230819
DTEND;VALUE=DATE:20230821
DTSTAMP:20260423T093207
CREATED:20230606T154053Z
LAST-MODIFIED:20230606T154053Z
UID:18396-1692403200-1692575999@www.olivertownend.com
SUMMARY:Solihull
DESCRIPTION:
URL:https://www.olivertownend.com/event/solihull/
CATEGORIES:Events
END:VEVENT
BEGIN:VEVENT
DTSTART;VALUE=DATE:20230824
DTEND;VALUE=DATE:20230828
DTSTAMP:20260423T093207
CREATED:20230606T154127Z
LAST-MODIFIED:20230606T154127Z
UID:18398-1692835200-1693180799@www.olivertownend.com
SUMMARY:Blair Castle
DESCRIPTION:
URL:https://www.olivertownend.com/event/blair-castle-3/
CATEGORIES:Events
END:VEVENT
BEGIN:VEVENT
DTSTART;VALUE=DATE:20230831
DTEND;VALUE=DATE:20230904
DTSTAMP:20260423T093207
CREATED:20230606T154222Z
LAST-MODIFIED:20230606T154222Z
UID:18400-1693440000-1693785599@www.olivertownend.com
SUMMARY:Burghley
DESCRIPTION:
URL:https://www.olivertownend.com/event/burghley-2/
CATEGORIES:Events
END:VEVENT
END:VCALENDAR