BEGIN:VCALENDAR
VERSION:2.0
PRODID:-//Oliver Townend - ECPv6.15.20//NONSGML v1.0//EN
CALSCALE:GREGORIAN
METHOD:PUBLISH
X-ORIGINAL-URL:https://www.olivertownend.com
X-WR-CALDESC:Events for Oliver Townend
REFRESH-INTERVAL;VALUE=DURATION:PT1H
X-Robots-Tag:noindex
X-PUBLISHED-TTL:PT1H
BEGIN:VTIMEZONE
TZID:UTC
BEGIN:STANDARD
TZOFFSETFROM:+0000
TZOFFSETTO:+0000
TZNAME:UTC
DTSTART:20230101T000000
END:STANDARD
END:VTIMEZONE
BEGIN:VEVENT
DTSTART;VALUE=DATE:20240619
DTEND;VALUE=DATE:20240621
DTSTAMP:20260426T032258
CREATED:20240812T115029Z
LAST-MODIFIED:20240812T115029Z
UID:19192-1718755200-1718927999@www.olivertownend.com
SUMMARY:Alnwick Ford
DESCRIPTION:
URL:https://www.olivertownend.com/event/alnwick-ford-3/
CATEGORIES:Events
END:VEVENT
END:VCALENDAR