BEGIN:VCALENDAR
VERSION:2.0
PRODID:-//Oliver Townend - ECPv6.15.20//NONSGML v1.0//EN
CALSCALE:GREGORIAN
METHOD:PUBLISH
X-ORIGINAL-URL:https://www.olivertownend.com
X-WR-CALDESC:Events for Oliver Townend
REFRESH-INTERVAL;VALUE=DURATION:PT1H
X-Robots-Tag:noindex
X-PUBLISHED-TTL:PT1H
BEGIN:VTIMEZONE
TZID:UTC
BEGIN:STANDARD
TZOFFSETFROM:+0000
TZOFFSETTO:+0000
TZNAME:UTC
DTSTART:20220101T000000
END:STANDARD
END:VTIMEZONE
BEGIN:VEVENT
DTSTART;VALUE=DATE:20230819
DTEND;VALUE=DATE:20230821
DTSTAMP:20260423T105847
CREATED:20230606T154053Z
LAST-MODIFIED:20230606T154053Z
UID:18396-1692403200-1692575999@www.olivertownend.com
SUMMARY:Solihull
DESCRIPTION:
URL:https://www.olivertownend.com/event/solihull/
CATEGORIES:Events
END:VEVENT
END:VCALENDAR