BEGIN:VCALENDAR
VERSION:2.0
PRODID:-//Oliver Townend - ECPv6.13.2//NONSGML v1.0//EN
CALSCALE:GREGORIAN
METHOD:PUBLISH
X-ORIGINAL-URL:https://www.olivertownend.com
X-WR-CALDESC:Events for Oliver Townend
REFRESH-INTERVAL;VALUE=DURATION:PT1H
X-Robots-Tag:noindex
X-PUBLISHED-TTL:PT1H
BEGIN:VTIMEZONE
TZID:UTC
BEGIN:STANDARD
TZOFFSETFROM:+0000
TZOFFSETTO:+0000
TZNAME:UTC
DTSTART:20230101T000000
END:STANDARD
END:VTIMEZONE
BEGIN:VEVENT
DTSTART;VALUE=DATE:20230330
DTEND;VALUE=DATE:20230403
DTSTAMP:20260420T181628
CREATED:20230219T194204Z
LAST-MODIFIED:20230219T194204Z
UID:18042-1680134400-1680479999@www.olivertownend.com
SUMMARY:Thoresby
DESCRIPTION:
URL:https://www.olivertownend.com/event/thoresby/
CATEGORIES:Events
END:VEVENT
END:VCALENDAR